BEGIN:VCALENDAR
VERSION:2.0
PRODID:-//Ceri - ECPv6.15.17//NONSGML v1.0//EN
CALSCALE:GREGORIAN
METHOD:PUBLISH
X-WR-CALNAME:Ceri
X-ORIGINAL-URL:https://www.ceri-auto-ecole.fr
X-WR-CALDESC:Évènements pour Ceri
REFRESH-INTERVAL;VALUE=DURATION:PT1H
X-Robots-Tag:noindex
X-PUBLISHED-TTL:PT1H
BEGIN:VTIMEZONE
TZID:Europe/Paris
BEGIN:DAYLIGHT
TZOFFSETFROM:+0100
TZOFFSETTO:+0200
TZNAME:CEST
DTSTART:20250330T010000
END:DAYLIGHT
BEGIN:STANDARD
TZOFFSETFROM:+0200
TZOFFSETTO:+0100
TZNAME:CET
DTSTART:20251026T010000
END:STANDARD
BEGIN:DAYLIGHT
TZOFFSETFROM:+0100
TZOFFSETTO:+0200
TZNAME:CEST
DTSTART:20260329T010000
END:DAYLIGHT
BEGIN:STANDARD
TZOFFSETFROM:+0200
TZOFFSETTO:+0100
TZNAME:CET
DTSTART:20261025T010000
END:STANDARD
BEGIN:DAYLIGHT
TZOFFSETFROM:+0100
TZOFFSETTO:+0200
TZNAME:CEST
DTSTART:20270328T010000
END:DAYLIGHT
BEGIN:STANDARD
TZOFFSETFROM:+0200
TZOFFSETTO:+0100
TZNAME:CET
DTSTART:20271031T010000
END:STANDARD
END:VTIMEZONE
BEGIN:VEVENT
DTSTART;TZID=Europe/Paris:20260511T080000
DTEND;TZID=Europe/Paris:20260512T163000
DTSTAMP:20260424T185153
CREATED:20260121T052104Z
LAST-MODIFIED:20260121T052104Z
UID:984-1778486400-1778603400@www.ceri-auto-ecole.fr
SUMMARY:stage de récupération de points -11 mai 2026
DESCRIPTION:
URL:https://www.ceri-auto-ecole.fr/stage-conduite/stage-de-recuperation-de-points-11-mai-2026/
LOCATION:CERI Auto-école\, 18 Boulevard Jean Pain\, Grenoble\, 38000\, France
CATEGORIES:stage de récupération de points
ATTACH;FMTTYPE=image/jpeg:https://www.ceri-auto-ecole.fr/wp-content/uploads/2026/01/7-768x512-1.jpg
ORGANIZER;CN="CERI Auto-%C3%A9cole":MAILTO:ceri.autoecolepap@gmail.com
END:VEVENT
END:VCALENDAR